BEGIN:VCALENDAR
VERSION:2.0
PRODID:-//NADI Pekan Kuala Kurau - ECPv6.15.13.1//NONSGML v1.0//EN
CALSCALE:GREGORIAN
METHOD:PUBLISH
X-WR-CALNAME:NADI Pekan Kuala Kurau
X-ORIGINAL-URL:https://kualakurau.nadi.my
X-WR-CALDESC:Events for NADI Pekan Kuala Kurau
REFRESH-INTERVAL;VALUE=DURATION:PT1H
X-Robots-Tag:noindex
X-PUBLISHED-TTL:PT1H
BEGIN:VTIMEZONE
TZID:UTC
BEGIN:STANDARD
TZOFFSETFROM:+0000
TZOFFSETTO:+0000
TZNAME:UTC
DTSTART:20240101T000000
END:STANDARD
END:VTIMEZONE
BEGIN:VEVENT
DTSTART;TZID=UTC:20260209T153000
DTEND;TZID=UTC:20260209T163000
DTSTAMP:20260420T112719
CREATED:20260204T211327Z
LAST-MODIFIED:20260204T211327Z
UID:2987-1770651000-1770654600@kualakurau.nadi.my
SUMMARY:DILEA OPEN TUITION : SEJARAH
DESCRIPTION:
URL:https://kualakurau.nadi.my/event/dilea-open-tuition-sejarah/
LOCATION:NADI Pekan Kuala Kurau\, NADI Pekan Kuala Kurau
END:VEVENT
BEGIN:VEVENT
DTSTART;TZID=UTC:20260207T140000
DTEND;TZID=UTC:20260207T160000
DTSTAMP:20260420T112719
CREATED:20260204T211451Z
LAST-MODIFIED:20260204T211745Z
UID:2989-1770472800-1770480000@kualakurau.nadi.my
SUMMARY:TINY TECHIES : LIVE WEBINAR MIRCO:BIT & ROBOTIK SIRI 2
DESCRIPTION:
URL:https://kualakurau.nadi.my/event/tint-techies-live-webinar-mircobit-robotik-siri-2/
LOCATION:NADI Pekan Kuala Kurau\, NADI Pekan Kuala Kurau
END:VEVENT
BEGIN:VEVENT
DTSTART;TZID=UTC:20260207T100000
DTEND;TZID=UTC:20260207T113000
DTSTAMP:20260420T112719
CREATED:20260204T211735Z
LAST-MODIFIED:20260204T211735Z
UID:2992-1770458400-1770463800@kualakurau.nadi.my
SUMMARY:KIDVENTURE : LIVE WEBINAR (OPERASI PERNIAGAAN)
DESCRIPTION:
URL:https://kualakurau.nadi.my/event/kidventure-live-webinar-operasi-perniagaan/
LOCATION:NADI Pekan Kuala Kurau\, NADI Pekan Kuala Kurau
END:VEVENT
BEGIN:VEVENT
DTSTART;TZID=UTC:20260206T153000
DTEND;TZID=UTC:20260206T163000
DTSTAMP:20260420T112719
CREATED:20260204T211206Z
LAST-MODIFIED:20260204T211206Z
UID:2985-1770391800-1770395400@kualakurau.nadi.my
SUMMARY:DILEA OPEN TUITION : MATEMATIK
DESCRIPTION:
URL:https://kualakurau.nadi.my/event/dilea-open-tuition-matematik/
LOCATION:NADI Pekan Kuala Kurau\, NADI Pekan Kuala Kurau
END:VEVENT
BEGIN:VEVENT
DTSTART;TZID=UTC:20260131T143000
DTEND;TZID=UTC:20260131T163000
DTSTAMP:20260420T112719
CREATED:20260127T201831Z
LAST-MODIFIED:20260127T201831Z
UID:2916-1769869800-1769877000@kualakurau.nadi.my
SUMMARY:WEBINAR BERKALA BAHASA INGGERIS – EDISI 7
DESCRIPTION:
URL:https://kualakurau.nadi.my/event/webinar-berkala-bahasa-inggeris-edisi-7/
LOCATION:NADI Pekan Kuala Kurau\, NADI Pekan Kuala Kurau
END:VEVENT
BEGIN:VEVENT
DTSTART;TZID=UTC:20260131T140000
DTEND;TZID=UTC:20260131T160000
DTSTAMP:20260420T112719
CREATED:20260129T173326Z
LAST-MODIFIED:20260129T173326Z
UID:2964-1769868000-1769875200@kualakurau.nadi.my
SUMMARY:PROGRAM TINY TECHIES JAN 2026
DESCRIPTION:
URL:https://kualakurau.nadi.my/event/program-tiny-techies-jan-2026/
LOCATION:NADI Pekan Kuala Kurau\, NADI Pekan Kuala Kurau
END:VEVENT
BEGIN:VEVENT
DTSTART;TZID=UTC:20260129T153000
DTEND;TZID=UTC:20260129T163000
DTSTAMP:20260420T112719
CREATED:20260127T202300Z
LAST-MODIFIED:20260127T202300Z
UID:2922-1769700600-1769704200@kualakurau.nadi.my
SUMMARY:DILEA : OPEN TUITION SAINS
DESCRIPTION:
URL:https://kualakurau.nadi.my/event/dilea-open-tuition-sains/
LOCATION:NADI Pekan Kuala Kurau\, NADI Pekan Kuala Kurau
END:VEVENT
BEGIN:VEVENT
DTSTART;TZID=UTC:20260129T150000
DTEND;TZID=UTC:20260129T163000
DTSTAMP:20260420T112719
CREATED:20260127T202052Z
LAST-MODIFIED:20260127T202116Z
UID:2919-1769698800-1769704200@kualakurau.nadi.my
SUMMARY:WEBINAR KESELAMATAN SIBER : Cara Menangani Ancaman Serangan Siber
DESCRIPTION:
URL:https://kualakurau.nadi.my/event/webinar-keselamatan-siber-cara-menangani-ancaman-serangan-siber/
LOCATION:NADI Pekan Kuala Kurau\, NADI Pekan Kuala Kurau
END:VEVENT
BEGIN:VEVENT
DTSTART;TZID=UTC:20251129T143000
DTEND;TZID=UTC:20251129T163000
DTSTAMP:20260420T112719
CREATED:20251127T174351Z
LAST-MODIFIED:20251127T180011Z
UID:2868-1764426600-1764433800@kualakurau.nadi.my
SUMMARY:WEBINAR GERAK GEMPUR SPM MATEMATIK
DESCRIPTION:Rasa susah nak kuasai asas nombor\, kebarangkalian\, kewangan\, logik atau teori graf? Jom sertai Webinar Gerak Gempur SPM Matematik yang direka khas untuk bantu anda faham konsep penting dan tingkatkan kemahiran menyelesaikan soalan SPM!\n\n\n Tarikh: 29 November 2025 (Sabtu)\n Masa: 2.30 PM – 4.30 PM\n Tempat: Dalam Talian\n\n\n Topik:\n\n\n* Asas Nombor\n* Kebarangkalian\n* Matematik Kewangan\n* Logik\n* Teori Graf\n\n\nSesi santai tapi padat dengan penerangan\, contoh soalan\, teknik menjawab\, dan strategi mudah untuk menguasai Matematik dengan lebih cepat dan berkesan!
URL:https://kualakurau.nadi.my/event/webinar-gerak-gempur-spm-matematik/
LOCATION:NADI Pekan Kuala Kurau\, NADI Pekan Kuala Kurau
END:VEVENT
BEGIN:VEVENT
DTSTART;TZID=UTC:20251129T090000
DTEND;TZID=UTC:20251129T130000
DTSTAMP:20260420T112719
CREATED:20251127T175914Z
LAST-MODIFIED:20251127T175940Z
UID:2875-1764406800-1764421200@kualakurau.nadi.my
SUMMARY:WEBINAR E-SUKAN : BASIC STORYBOARDING
DESCRIPTION:Kelas ini memberi pendedahan tentang asas penghasilan storyboard\, teknik susunan visual\, pembinaan naratif dan cara merangka shot untuk video atau kandungan animasi dengan lebih teratur.\n Tarikh : Sabtu\, 29 November 2025\n Masa : 9:00 pagi – 1:00 tengah hari\n Platform : Google Meet
URL:https://kualakurau.nadi.my/event/webinar-e-sukan-basic-storyboarding/
LOCATION:NADI Pekan Kuala Kurau\, NADI Pekan Kuala Kurau
END:VEVENT
BEGIN:VEVENT
DTSTART;TZID=UTC:20251108T143000
DTEND;TZID=UTC:20251108T163000
DTSTAMP:20260420T112719
CREATED:20251107T191116Z
LAST-MODIFIED:20251107T191116Z
UID:2842-1762612200-1762619400@kualakurau.nadi.my
SUMMARY:DILEA : PROGRAM KHAS WEBINAR GERAK GEMPUR SPM SEJARAH
DESCRIPTION:
URL:https://kualakurau.nadi.my/event/dilea-program-khas-webinar-gerak-gempur-spm-sejarah/
LOCATION:NADI Pekan Kuala Kurau\, NADI Pekan Kuala Kurau
END:VEVENT
BEGIN:VEVENT
DTSTART;TZID=UTC:20251107T090000
DTEND;TZID=UTC:20251109T180000
DTSTAMP:20260420T112719
CREATED:20251108T012651Z
LAST-MODIFIED:20251108T012651Z
UID:2864-1762506000-1762711200@kualakurau.nadi.my
SUMMARY:E-SUKAN : KELAS KESEDARAN NOVEMBER 2025
DESCRIPTION:
URL:https://kualakurau.nadi.my/event/e-sukan-kelas-kesedaran-november-2025/
LOCATION:NADI Pekan Kuala Kurau\, NADI Pekan Kuala Kurau
END:VEVENT
BEGIN:VEVENT
DTSTART;TZID=UTC:20251101T103000
DTEND;TZID=UTC:20251130T120000
DTSTAMP:20260420T112719
CREATED:20251108T010528Z
LAST-MODIFIED:20251108T011808Z
UID:2846-1761993000-1764504000@kualakurau.nadi.my
SUMMARY:NADI-CARE : HEALTH ADVOCACY
DESCRIPTION:WEBINAR LIVE\n\nEVERY TUESDAY AND FRIDAY\n\nPODCAST\n\nEVERY THURSDAY\n\nEXERCISE\n\nEVERY SATURDAY\n\n 
URL:https://kualakurau.nadi.my/event/nadi-care-health-advocacy-via-webinar/
LOCATION:Live On Youtube
END:VEVENT
BEGIN:VEVENT
DTSTART;TZID=UTC:20250816T110000
DTEND;TZID=UTC:20250816T120000
DTSTAMP:20260420T112719
CREATED:20250808T232459Z
LAST-MODIFIED:20250808T232459Z
UID:2816-1755342000-1755345600@kualakurau.nadi.my
SUMMARY:WEBINAR KIS : LAWAN BERITA PALSU
DESCRIPTION:
URL:https://kualakurau.nadi.my/event/webinar-kis-lawan-berita-palsu/
END:VEVENT
BEGIN:VEVENT
DTSTART;TZID=UTC:20250814T150000
DTEND;TZID=UTC:20250814T163000
DTSTAMP:20260420T112719
CREATED:20250808T232126Z
LAST-MODIFIED:20250808T232126Z
UID:2813-1755183600-1755189000@kualakurau.nadi.my
SUMMARY:CYBERSECURITY : WEBINAR
DESCRIPTION:
URL:https://kualakurau.nadi.my/event/cybersecurity-webinar/
END:VEVENT
BEGIN:VEVENT
DTSTART;TZID=UTC:20250810T100000
DTEND;TZID=UTC:20250810T110000
DTSTAMP:20260420T112719
CREATED:20250808T231846Z
LAST-MODIFIED:20250808T231846Z
UID:2810-1754820000-1754823600@kualakurau.nadi.my
SUMMARY:BENGKEL UNBOXING KIT TINY TECHIES
DESCRIPTION:
URL:https://kualakurau.nadi.my/event/bengkel-unboxing-kit-tiny-techies/
LOCATION:NADI Pekan Kuala Kurau\, NADI Pekan Kuala Kurau
END:VEVENT
BEGIN:VEVENT
DTSTART;TZID=UTC:20250614T080000
DTEND;TZID=UTC:20250614T170000
DTSTAMP:20260420T112719
CREATED:20250611T000204Z
LAST-MODIFIED:20250611T000204Z
UID:2787-1749888000-1749920400@kualakurau.nadi.my
SUMMARY:BENGKEL ROBOTIK
DESCRIPTION:
URL:https://kualakurau.nadi.my/event/bengkel-robotik/
LOCATION:NADI Pekan Kuala Kurau\, NADI Pekan Kuala Kurau
END:VEVENT
BEGIN:VEVENT
DTSTART;TZID=UTC:20250614T080000
DTEND;TZID=UTC:20250614T170000
DTSTAMP:20260420T112719
CREATED:20250611T000054Z
LAST-MODIFIED:20250611T000054Z
UID:2784-1749888000-1749920400@kualakurau.nadi.my
SUMMARY:RASA WARISAN NYONYA ASLI
DESCRIPTION:
URL:https://kualakurau.nadi.my/event/rasa-warisan-nyonya-asli/
LOCATION:NADI Pekan Kuala Kurau\, NADI Pekan Kuala Kurau
END:VEVENT
BEGIN:VEVENT
DTSTART;TZID=UTC:20250613T080000
DTEND;TZID=UTC:20250613T170000
DTSTAMP:20260420T112719
CREATED:20250610T235823Z
LAST-MODIFIED:20250610T235823Z
UID:2779-1749801600-1749834000@kualakurau.nadi.my
SUMMARY:WEBINAR LINDUNGI IDENTITI DIGITAL ANDA
DESCRIPTION:
URL:https://kualakurau.nadi.my/event/webinar-lindungi-identiti-digital-anda/
LOCATION:NADI Pekan Kuala Kurau\, NADI Pekan Kuala Kurau
END:VEVENT
BEGIN:VEVENT
DTSTART;TZID=UTC:20250329T080000
DTEND;TZID=UTC:20250329T160000
DTSTAMP:20260420T112719
CREATED:20250304T000431Z
LAST-MODIFIED:20250304T000431Z
UID:2763-1743235200-1743264000@kualakurau.nadi.my
SUMMARY:NADI X E-SPORT : Kelas Pensijilan
DESCRIPTION:
URL:https://kualakurau.nadi.my/event/nadi-x-e-sport-kelas-pensijilan-2/
LOCATION:NADI Pekan Kuala Kurau\, NADI Pekan Kuala Kurau
END:VEVENT
BEGIN:VEVENT
DTSTART;TZID=UTC:20250322T080000
DTEND;TZID=UTC:20250322T160000
DTSTAMP:20260420T112719
CREATED:20250304T000403Z
LAST-MODIFIED:20250304T000403Z
UID:2761-1742630400-1742659200@kualakurau.nadi.my
SUMMARY:NADI X E-SPORT : Kelas Pensijilan
DESCRIPTION:
URL:https://kualakurau.nadi.my/event/nadi-x-e-sport-kelas-pensijilan/
LOCATION:NADI Pekan Kuala Kurau\, NADI Pekan Kuala Kurau
END:VEVENT
BEGIN:VEVENT
DTSTART;TZID=UTC:20250319T150000
DTEND;TZID=UTC:20250319T160000
DTSTAMP:20260420T112719
CREATED:20250303T235249Z
LAST-MODIFIED:20250303T235249Z
UID:2748-1742396400-1742400000@kualakurau.nadi.my
SUMMARY:NADI X KESEDARAN : Taklimat Safe & Shield
DESCRIPTION:
URL:https://kualakurau.nadi.my/event/nadi-x-kesedaran-taklimat-safe-shield/
LOCATION:NADI Kuala Kurau\, NADI Kuala Kurau
END:VEVENT
BEGIN:VEVENT
DTSTART;TZID=UTC:20250309T100000
DTEND;TZID=UTC:20250309T170000
DTSTAMP:20260420T112719
CREATED:20250304T000318Z
LAST-MODIFIED:20250304T000318Z
UID:2759-1741514400-1741539600@kualakurau.nadi.my
SUMMARY:E-KELAS DILEA : English Proficiency
DESCRIPTION:
URL:https://kualakurau.nadi.my/event/e-kelas-dilea-english-proficiency/
LOCATION:NADI Pekan Kuala Kurau\, NADI Pekan Kuala Kurau
END:VEVENT
BEGIN:VEVENT
DTSTART;TZID=UTC:20250308T100000
DTEND;TZID=UTC:20250308T120000
DTSTAMP:20260420T112719
CREATED:20250303T235912Z
LAST-MODIFIED:20250303T235912Z
UID:2757-1741428000-1741435200@kualakurau.nadi.my
SUMMARY:NADI X TINY TEACHIES : Bengkel Phyton
DESCRIPTION:
URL:https://kualakurau.nadi.my/event/nadi-x-tiny-teachies-bengkel-phyton/
LOCATION:NADI Pekan Kuala Kurau\, NADI Pekan Kuala Kurau
END:VEVENT
BEGIN:VEVENT
DTSTART;TZID=UTC:20250308T100000
DTEND;TZID=UTC:20250308T113000
DTSTAMP:20260420T112719
CREATED:20250303T235805Z
LAST-MODIFIED:20250303T235805Z
UID:2755-1741428000-1741433400@kualakurau.nadi.my
SUMMARY:NADI X CYBERSECURITY : Keselamatan Siber Dalam E-Sport
DESCRIPTION:
URL:https://kualakurau.nadi.my/event/nadi-x-cybersecurity-keselamatan-siber-dalam-e-sport/
LOCATION:NADI Pekan Kuala Kurau\, NADI Pekan Kuala Kurau
END:VEVENT
BEGIN:VEVENT
DTSTART;TZID=UTC:20250306T090000
DTEND;TZID=UTC:20250306T130000
DTSTAMP:20260420T112719
CREATED:20250303T235346Z
LAST-MODIFIED:20250303T235346Z
UID:2750-1741251600-1741266000@kualakurau.nadi.my
SUMMARY:NADI X TABUNG HAJI
DESCRIPTION:
URL:https://kualakurau.nadi.my/event/nadi-x-tabung-haji/
LOCATION:NADI Pekan Kuala Kurau\, NADI Pekan Kuala Kurau
END:VEVENT
BEGIN:VEVENT
DTSTART;TZID=UTC:20250208T090000
DTEND;TZID=UTC:20250208T120000
DTSTAMP:20260420T112719
CREATED:20250204T003742Z
LAST-MODIFIED:20250204T003742Z
UID:2735-1739005200-1739016000@kualakurau.nadi.my
SUMMARY:NADI X KOMUNITI MADANI
DESCRIPTION:
URL:https://kualakurau.nadi.my/event/nadi-x-komuniti-madani/
LOCATION:NADI Pekan Kuala Kurau\, NADI Pekan Kuala Kurau
END:VEVENT
BEGIN:VEVENT
DTSTART;TZID=UTC:20250207T150000
DTEND;TZID=UTC:20250207T170000
DTSTAMP:20260420T112719
CREATED:20250204T003640Z
LAST-MODIFIED:20250204T003640Z
UID:2733-1738940400-1738947600@kualakurau.nadi.my
SUMMARY:WEBINAR NADI X CYBERSECURITY
DESCRIPTION:
URL:https://kualakurau.nadi.my/event/webinar-nadi-x-cybersecurity/
LOCATION:NADI Pekan Kuala Kurau\, NADI Pekan Kuala Kurau
END:VEVENT
BEGIN:VEVENT
DTSTART;TZID=UTC:20250205T143000
DTEND;TZID=UTC:20250205T153000
DTSTAMP:20260420T112719
CREATED:20250204T003316Z
LAST-MODIFIED:20250204T003316Z
UID:2727-1738765800-1738769400@kualakurau.nadi.my
SUMMARY:KELAS MAHIR FOTO KELAS 3 MINGGU 11
DESCRIPTION:
URL:https://kualakurau.nadi.my/event/kelas-mahir-foto-kelas-3-minggu-11/
LOCATION:NADI Pekan Kuala Kurau\, NADI Pekan Kuala Kurau
END:VEVENT
BEGIN:VEVENT
DTSTART;TZID=UTC:20250205T090000
DTEND;TZID=UTC:20250205T170000
DTSTAMP:20260420T112719
CREATED:20250204T003347Z
LAST-MODIFIED:20250204T003558Z
UID:2729-1738746000-1738774800@kualakurau.nadi.my
SUMMARY:WEBINAR SMART SAFE
DESCRIPTION:
URL:https://kualakurau.nadi.my/event/kelas-mahir-foto-kelas-7-minggu-11/
LOCATION:NADI Pekan Kuala Kurau\, NADI Pekan Kuala Kurau
END:VEVENT
END:VCALENDAR